BEGIN:VCALENDAR
VERSION:2.0
PRODID:-//Aktuelles - ECPv6.15.20//NONSGML v1.0//EN
CALSCALE:GREGORIAN
METHOD:PUBLISH
X-ORIGINAL-URL:https://buergerinitiative-ruegen.de
X-WR-CALDESC:Veranstaltungen für Aktuelles
REFRESH-INTERVAL;VALUE=DURATION:PT1H
X-Robots-Tag:noindex
X-PUBLISHED-TTL:PT1H
BEGIN:VTIMEZONE
TZID:UTC
BEGIN:STANDARD
TZOFFSETFROM:+0000
TZOFFSETTO:+0000
TZNAME:UTC
DTSTART:20230101T000000
END:STANDARD
END:VTIMEZONE
BEGIN:VEVENT
DTSTART;TZID=UTC:20240708T193000
DTEND;TZID=UTC:20240708T210000
DTSTAMP:20260419T140946
CREATED:20240617T154840Z
LAST-MODIFIED:20240617T154840Z
UID:536-1720467000-1720472400@buergerinitiative-ruegen.de
SUMMARY:Importiertes Leid und Klimachaos - die dunkle Seite von Fracking-LNG
DESCRIPTION:Im Rahmen ihrer Vortragsreise in Deutschland werden Elida Castillo und John Beard aus Corpus Christi und Port Arthur\, Texas als vor Ort unmittelbar von Umweltzerstörung und umweltbezogenen Menschenrechtsverletzungen durch globale LNG-Infrastruktur und Petrochemie Betroffene\, über Ihre Lebenssituation und ihren Widerstand im globalen Kontext berichten. \nDie Veranstaltung findet öffentlich im Großen Saal ( Haus des Gastes Binz\, Heinrich-Heine-Straße 7\, 18609 Binz ) statt und wird simultan übersetzt.
URL:https://buergerinitiative-ruegen.de/event/importiertes-leid-und-klimachaos-die-dunkle-seite-von-fracking-lng/
LOCATION:Haus des Gastes\, Binz\, Heinrich-Heine-Straße 7\, Binz\, 18609\, Deutschland
END:VEVENT
END:VCALENDAR