BEGIN:VCALENDAR
VERSION:2.0
PRODID:-//Aktuelles - ECPv6.15.20//NONSGML v1.0//EN
CALSCALE:GREGORIAN
METHOD:PUBLISH
X-ORIGINAL-URL:https://buergerinitiative-ruegen.de
X-WR-CALDESC:Veranstaltungen für Aktuelles
REFRESH-INTERVAL;VALUE=DURATION:PT1H
X-Robots-Tag:noindex
X-PUBLISHED-TTL:PT1H
BEGIN:VTIMEZONE
TZID:UTC
BEGIN:STANDARD
TZOFFSETFROM:+0000
TZOFFSETTO:+0000
TZNAME:UTC
DTSTART:20240101T000000
END:STANDARD
END:VTIMEZONE
BEGIN:VEVENT
DTSTART;TZID=UTC:20250602T170000
DTEND;TZID=UTC:20250602T183000
DTSTAMP:20260424T101453
CREATED:20250928T150512Z
LAST-MODIFIED:20250928T162443Z
UID:916-1748883600-1748889000@buergerinitiative-ruegen.de
SUMMARY:+++ Gespräch im Sassnitzer Rathaus zu LNG +++
DESCRIPTION:02.06.2025 – tk. Gespräch der Bürgerinitiative beim Sassnitzer Bürgermeister\, um Fragen im Zusammenhang mit der LNG-Störfallanlage erörtern zu können.
URL:https://buergerinitiative-ruegen.de/event/gespraech-im-sassnitzer-rathaus-zu-lng/
END:VEVENT
BEGIN:VEVENT
DTSTART;TZID=UTC:20250629T150000
DTEND;TZID=UTC:20250629T210000
DTSTAMP:20260424T101453
CREATED:20250624T160706Z
LAST-MODIFIED:20250928T164406Z
UID:620-1751209200-1751230800@buergerinitiative-ruegen.de
SUMMARY:+++ Vier Jahre Bürgerinitiative - Treffen in Frankenthal am 29.06.2025 +++
DESCRIPTION:tk. Im Juni 2021 gründete sich die Bürgerinitiative Lebenswertes Rügen. Am Sonntag\, den 29.06.2025\, wollen wir deshalb ab 15.00 Uhr das Jubiläum am Gründungsort\, auf dem LebensGut in Frankenthal\, in lockerer und gemütlicher Runde feiern.\nLasst uns bei Kaffee und Kuchen miteinander ins Gespräch kommen und die tolle Atmosphäre dort genießen. Bringt gute Laune und gern auch Familienmitglieder\, interessierte Freunde und Bekannte mit.
URL:https://buergerinitiative-ruegen.de/event/vier-jahre-buergerinitiative-29-06-2025/
END:VEVENT
END:VCALENDAR