BEGIN:VCALENDAR
VERSION:2.0
PRODID:-//Aktuelles - ECPv6.15.20//NONSGML v1.0//EN
CALSCALE:GREGORIAN
METHOD:PUBLISH
X-WR-CALNAME:Aktuelles
X-ORIGINAL-URL:https://buergerinitiative-ruegen.de
X-WR-CALDESC:Veranstaltungen für Aktuelles
REFRESH-INTERVAL;VALUE=DURATION:PT1H
X-Robots-Tag:noindex
X-PUBLISHED-TTL:PT1H
BEGIN:VTIMEZONE
TZID:UTC
BEGIN:STANDARD
TZOFFSETFROM:+0000
TZOFFSETTO:+0000
TZNAME:UTC
DTSTART:20240101T000000
END:STANDARD
END:VTIMEZONE
BEGIN:VEVENT
DTSTART;TZID=UTC:20251210T140000
DTEND;TZID=UTC:20251210T170000
DTSTAMP:20260419T194113
CREATED:20251203T080416Z
LAST-MODIFIED:20251212T081500Z
UID:1190-1765375200-1765386000@buergerinitiative-ruegen.de
SUMMARY:+++ Besuch des Landtages MV in Schwerin am 10.12.2025 +++
DESCRIPTION:Vertreter der Bürgerinitiative nehmen am Besuchsprogramm der Landtagsverwaltung im Schloss Schwerin teil. Nach einer kurzen Einleitung durch den Besucherdienst wird die Plenarsitzung besucht. Anschließend findet ein Gespräch mit Landtagsabgeordneten statt.
URL:https://buergerinitiative-ruegen.de/event/besuch-des-landtages-mv-in-schwerin/
END:VEVENT
END:VCALENDAR