BEGIN:VCALENDAR
VERSION:2.0
PRODID:-//Aktuelles - ECPv6.15.20//NONSGML v1.0//EN
CALSCALE:GREGORIAN
METHOD:PUBLISH
X-WR-CALNAME:Aktuelles
X-ORIGINAL-URL:https://buergerinitiative-ruegen.de
X-WR-CALDESC:Veranstaltungen für Aktuelles
REFRESH-INTERVAL;VALUE=DURATION:PT1H
X-Robots-Tag:noindex
X-PUBLISHED-TTL:PT1H
BEGIN:VTIMEZONE
TZID:UTC
BEGIN:STANDARD
TZOFFSETFROM:+0000
TZOFFSETTO:+0000
TZNAME:UTC
DTSTART:20240101T000000
END:STANDARD
END:VTIMEZONE
BEGIN:VEVENT
DTSTART;TZID=UTC:20251208T180000
DTEND;TZID=UTC:20251208T200000
DTSTAMP:20260419T211532
CREATED:20251201T180133Z
LAST-MODIFIED:20251212T081548Z
UID:1188-1765216800-1765224000@buergerinitiative-ruegen.de
SUMMARY:+++ Aktionsratssitzung in Frankenthal am 08.12.2025 um 18:00 Uhr +++
DESCRIPTION:Der Aktionsrat führt seine nächste Sitzung am Montag\, den 08.12.2025\, ab 18:00 Uhr\, in Frankenthal durch.
URL:https://buergerinitiative-ruegen.de/event/aktionsratssitzung-in-frankenthal-am-08-12-2025-um-1800-uhr/
END:VEVENT
END:VCALENDAR