BEGIN:VCALENDAR
VERSION:2.0
PRODID:-//Aktuelles - ECPv6.15.20//NONSGML v1.0//EN
CALSCALE:GREGORIAN
METHOD:PUBLISH
X-WR-CALNAME:Aktuelles
X-ORIGINAL-URL:https://buergerinitiative-ruegen.de
X-WR-CALDESC:Veranstaltungen für Aktuelles
REFRESH-INTERVAL;VALUE=DURATION:PT1H
X-Robots-Tag:noindex
X-PUBLISHED-TTL:PT1H
BEGIN:VTIMEZONE
TZID:UTC
BEGIN:STANDARD
TZOFFSETFROM:+0000
TZOFFSETTO:+0000
TZNAME:UTC
DTSTART:20240101T000000
END:STANDARD
END:VTIMEZONE
BEGIN:VEVENT
DTSTART;TZID=UTC:20250721T180000
DTEND;TZID=UTC:20250721T210000
DTSTAMP:20260422T102748
CREATED:20250708T074525Z
LAST-MODIFIED:20250709T134608Z
UID:638-1753120800-1753131600@buergerinitiative-ruegen.de
SUMMARY:Workshop - "Informationen gemeinsam erfolgreich teilen"
DESCRIPTION:Aktionsratssitzung BI Lebenswertes Rügen & Workshop\nWie können wir mit wenig Aufwand unseren Informationen und Anliegen erfolgreich eine größere Reichweite und Aufmerksamkeit verschaffen? \nBringt bitte alle eure Handies mit 😉
URL:https://buergerinitiative-ruegen.de/event/workshop-informationen-gemeinsam-teilen/
LOCATION:LebensGut Frankenthal\, Frankenthal 7\, Samtens\, 18573\, Deutschland
END:VEVENT
END:VCALENDAR