BEGIN:VCALENDAR
VERSION:2.0
PRODID:-//Aktuelles - ECPv6.15.20//NONSGML v1.0//EN
CALSCALE:GREGORIAN
METHOD:PUBLISH
X-ORIGINAL-URL:https://buergerinitiative-ruegen.de
X-WR-CALDESC:Veranstaltungen für Aktuelles
REFRESH-INTERVAL;VALUE=DURATION:PT1H
X-Robots-Tag:noindex
X-PUBLISHED-TTL:PT1H
BEGIN:VTIMEZONE
TZID:UTC
BEGIN:STANDARD
TZOFFSETFROM:+0000
TZOFFSETTO:+0000
TZNAME:UTC
DTSTART:20240101T000000
END:STANDARD
END:VTIMEZONE
BEGIN:VEVENT
DTSTART;TZID=UTC:20250705T110000
DTEND;TZID=UTC:20250705T140000
DTSTAMP:20260422T103323
CREATED:20250928T163256Z
LAST-MODIFIED:20250928T163256Z
UID:930-1751713200-1751724000@buergerinitiative-ruegen.de
SUMMARY:+++ Informationstand der Umweltgewerkschaft in Rostock - 05.06.2025 +++
DESCRIPTION:Die Umweltgewerkschaft informiert am 05.06.2025 ab 11:00 Uhr am Universitätsplatz in Rostock über Auswirkungen und Gefahren fossiler Energieträger. Auf deren Einladung wird die BI dort vertreten sein\, um über den aktuellen Sachstand zur LNG-Störfallanlage in Mukran zu informieren.
URL:https://buergerinitiative-ruegen.de/event/informationstand-der-umweltgewerkschaft-in-rostock-05-06-2025/
LOCATION:Universitätsplatz Rostock
END:VEVENT
END:VCALENDAR